BEGIN:VCALENDAR
VERSION:2.0
PRODID:-//Site de la commune de Saurat - ECPv4.6.14.1//NONSGML v1.0//EN
CALSCALE:GREGORIAN
METHOD:PUBLISH
X-WR-CALNAME:Site de la commune de Saurat
X-ORIGINAL-URL:https://www.mairie-saurat.fr
X-WR-CALDESC:Events for Site de la commune de Saurat
BEGIN:VEVENT
DTSTART;TZID=Europe/Paris:20230128T150000
DTEND;TZID=Europe/Paris:20230128T170000
DTSTAMP:20260421T162533
CREATED:20230109T105126Z
LAST-MODIFIED:20230109T105126Z
UID:10366-1674918000-1674925200@www.mairie-saurat.fr
SUMMARY:Téléthon
DESCRIPTION: \n
URL:https://www.mairie-saurat.fr/evenement/telethon-3/
LOCATION:le Pradal\, Saurat\, 09400\, France
END:VEVENT
END:VCALENDAR