BEGIN:VCALENDAR
VERSION:2.0
PRODID:-//Site de la commune de Saurat - ECPv4.6.14.1//NONSGML v1.0//EN
CALSCALE:GREGORIAN
METHOD:PUBLISH
X-WR-CALNAME:Site de la commune de Saurat
X-ORIGINAL-URL:https://www.mairie-saurat.fr
X-WR-CALDESC:Events for Site de la commune de Saurat
BEGIN:VEVENT
DTSTART;TZID=Europe/Paris:20211212T090000
DTEND;TZID=Europe/Paris:20211212T123000
DTSTAMP:20260422T050449
CREATED:20211116T144034Z
LAST-MODIFIED:20211119T175301Z
UID:8719-1639299600-1639312200@www.mairie-saurat.fr
SUMMARY:Vente de gâteaux par le Saurathon
DESCRIPTION:Le Saurathon organise une vente de gâteaux au profit du Téléthon\, de 9h30 à 12h30\, place de la Rende. \n
URL:https://www.mairie-saurat.fr/evenement/vente-de-gateaux-au-profit-du-telethon/
LOCATION:Place de la Rende\, Saurat\, 09400\, France
END:VEVENT
END:VCALENDAR